BEGIN:VCALENDAR
VERSION:2.0
PRODID:-//Claptonmania - ECPv6.15.13.1//NONSGML v1.0//EN
CALSCALE:GREGORIAN
METHOD:PUBLISH
X-WR-CALNAME:Claptonmania
X-ORIGINAL-URL:https://portfolio.claptonmania.de
X-WR-CALDESC:Veranstaltungen für Claptonmania
REFRESH-INTERVAL;VALUE=DURATION:PT1H
X-Robots-Tag:noindex
X-PUBLISHED-TTL:PT1H
BEGIN:VTIMEZONE
TZID:Europe/Berlin
BEGIN:DAYLIGHT
TZOFFSETFROM:+0100
TZOFFSETTO:+0200
TZNAME:CEST
DTSTART:20250330T010000
END:DAYLIGHT
BEGIN:STANDARD
TZOFFSETFROM:+0200
TZOFFSETTO:+0100
TZNAME:CET
DTSTART:20251026T010000
END:STANDARD
BEGIN:DAYLIGHT
TZOFFSETFROM:+0100
TZOFFSETTO:+0200
TZNAME:CEST
DTSTART:20260329T010000
END:DAYLIGHT
BEGIN:STANDARD
TZOFFSETFROM:+0200
TZOFFSETTO:+0100
TZNAME:CET
DTSTART:20261025T010000
END:STANDARD
BEGIN:DAYLIGHT
TZOFFSETFROM:+0100
TZOFFSETTO:+0200
TZNAME:CEST
DTSTART:20270328T010000
END:DAYLIGHT
BEGIN:STANDARD
TZOFFSETFROM:+0200
TZOFFSETTO:+0100
TZNAME:CET
DTSTART:20271031T010000
END:STANDARD
END:VTIMEZONE
BEGIN:VEVENT
DTSTART;TZID=Europe/Berlin:20260514T193000
DTEND;TZID=Europe/Berlin:20260514T193000
DTSTAMP:20260424T120558
CREATED:20250911T130654Z
LAST-MODIFIED:20250911T130809Z
UID:2267-1778787000-1778787000@portfolio.claptonmania.de
SUMMARY:Claptonmania unplugged
DESCRIPTION:
URL:https://portfolio.claptonmania.de/konzert/claptonmania-unplugged/
LOCATION:STUCK Bühne Leipzig\, Zillerstraße 6\, Leipzig\, 04317\, Germany
CATEGORIES:unplugged
END:VEVENT
BEGIN:VEVENT
DTSTART;TZID=Europe/Berlin:20260614T190000
DTEND;TZID=Europe/Berlin:20260614T190000
DTSTAMP:20260424T120558
CREATED:20250911T131053Z
LAST-MODIFIED:20251125T140028Z
UID:2270-1781463600-1781463600@portfolio.claptonmania.de
SUMMARY:Claptonmania unplugged
DESCRIPTION:
URL:https://portfolio.claptonmania.de/konzert/claptonmania-unplugged-5/
LOCATION:Gerolzhöfer Summer Opening\, Spitalgarten\, Gerolzhofen\, 97447\, Germany
CATEGORIES:Clapton Tribute,unplugged
END:VEVENT
BEGIN:VEVENT
DTSTART;TZID=Europe/Berlin:20260814T200000
DTEND;TZID=Europe/Berlin:20260814T200000
DTSTAMP:20260424T120558
CREATED:20251103T163824Z
LAST-MODIFIED:20251103T163838Z
UID:2293-1786737600-1786737600@portfolio.claptonmania.de
SUMMARY:Claptonmania - The Music of Eric Clapton
DESCRIPTION: 
URL:https://portfolio.claptonmania.de/konzert/claptonmania-the-music-of-eric-clapton/
LOCATION:Tucholsky Bühne\, Fort A\, Festungsstraße 20\, Minden\, 32423\, Germany
CATEGORIES:Clapton Tribute
END:VEVENT
BEGIN:VEVENT
DTSTART;TZID=Europe/Berlin:20261009T190000
DTEND;TZID=Europe/Berlin:20261009T200000
DTSTAMP:20260424T120558
CREATED:20260112T103619Z
LAST-MODIFIED:20260112T103634Z
UID:2323-1791572400-1791576000@portfolio.claptonmania.de
SUMMARY:CLAPTONMANIA | Blues-Session Herten
DESCRIPTION:
URL:https://portfolio.claptonmania.de/konzert/claptonmania-blues-session-herten/
LOCATION:Bürgerhaus Herten\, Süder Markt\, Herten\, 45699\, Germany
CATEGORIES:Clapton Tribute
END:VEVENT
BEGIN:VEVENT
DTSTART;TZID=Europe/Berlin:20261024T200000
DTEND;TZID=Europe/Berlin:20261024T200000
DTSTAMP:20260424T120558
CREATED:20251217T135029Z
LAST-MODIFIED:20251217T135041Z
UID:2318-1792872000-1792872000@portfolio.claptonmania.de
SUMMARY:Claptonmania | Hamelner Blues- und Rocknacht
DESCRIPTION:
URL:https://portfolio.claptonmania.de/konzert/claptonmania-hamelner-blues-und-rocknacht/
LOCATION:Lalu Traumfabrik – Hefehof Hameln\, HefeHof 29\, Hameln\, Niedersachsen\, 31785\, Deutschland
CATEGORIES:Blues- & Rocknacht
END:VEVENT
END:VCALENDAR